BEGIN:VCALENDAR
VERSION:2.0
PRODID:-//Ignite Prayer Canada - ECPv6.15.20//NONSGML v1.0//EN
CALSCALE:GREGORIAN
METHOD:PUBLISH
X-ORIGINAL-URL:https://igniteprayer.ca
X-WR-CALDESC:Events for Ignite Prayer Canada
REFRESH-INTERVAL;VALUE=DURATION:PT1H
X-Robots-Tag:noindex
X-PUBLISHED-TTL:PT1H
BEGIN:VTIMEZONE
TZID:America/Toronto
BEGIN:DAYLIGHT
TZOFFSETFROM:-0500
TZOFFSETTO:-0400
TZNAME:EDT
DTSTART:20240310T070000
END:DAYLIGHT
BEGIN:STANDARD
TZOFFSETFROM:-0400
TZOFFSETTO:-0500
TZNAME:EST
DTSTART:20241103T060000
END:STANDARD
BEGIN:DAYLIGHT
TZOFFSETFROM:-0500
TZOFFSETTO:-0400
TZNAME:EDT
DTSTART:20250309T070000
END:DAYLIGHT
BEGIN:STANDARD
TZOFFSETFROM:-0400
TZOFFSETTO:-0500
TZNAME:EST
DTSTART:20251102T060000
END:STANDARD
BEGIN:DAYLIGHT
TZOFFSETFROM:-0500
TZOFFSETTO:-0400
TZNAME:EDT
DTSTART:20260308T070000
END:DAYLIGHT
BEGIN:STANDARD
TZOFFSETFROM:-0400
TZOFFSETTO:-0500
TZNAME:EST
DTSTART:20261101T060000
END:STANDARD
BEGIN:DAYLIGHT
TZOFFSETFROM:-0500
TZOFFSETTO:-0400
TZNAME:EDT
DTSTART:20270314T070000
END:DAYLIGHT
BEGIN:STANDARD
TZOFFSETFROM:-0400
TZOFFSETTO:-0500
TZNAME:EST
DTSTART:20271107T060000
END:STANDARD
END:VTIMEZONE
BEGIN:VEVENT
DTSTART;TZID=America/Toronto:20260218T130000
DTEND;TZID=America/Toronto:20260218T140000
DTSTAMP:20260423T022820
CREATED:20251205T210635Z
LAST-MODIFIED:20251205T210757Z
UID:1637-1771419600-1771423200@igniteprayer.ca
SUMMARY:Online - Pastors and Leaders Prayer Forum
DESCRIPTION:Click to Register \n \nPastors and Leaders Prayer Forum\nThe Billy Graham Evangelistic Association of Canada is hosting a prayer initiative for Canadian pastors and leaders. \nPlease join us for these free\, online events. For each event\, we’ll be inviting a guest speaker to share on the topic of prayer. We will also break into small groups to pray for one another and the church in Canada. \n  \n\n\n\n\nFred Hartley has pastored One Mission Church since 1988\, an exciting and influential international church in Atlanta\, GA. In 1997 he started the College of Prayer with a vision to mentor pastors and leaders to reach a lost world through a revived church. Today there are 9.3 million campuses of the College of Prayer in 227 nations and territories\, and they have now trained 96.3 million pastors and leaders around the world. He and Sherry have been married 52 years. They have 4 children who are each married\, and they have 16 grandchildren. Fred loves Christ and the local church.\n\n\n\n 
URL:https://igniteprayer.ca/event/online-pastors-and-leaders-prayer-forum-5/
CATEGORIES:Quarterly Prayer Meetings
END:VEVENT
BEGIN:VEVENT
DTSTART;TZID=America/Toronto:20251119T130000
DTEND;TZID=America/Toronto:20251119T140000
DTSTAMP:20260423T022820
CREATED:20250716T224734Z
LAST-MODIFIED:20250716T224734Z
UID:1407-1763557200-1763560800@igniteprayer.ca
SUMMARY:Online - Pastors and Leaders Prayer Forum
DESCRIPTION:Click to Register \n \nPastors and Leaders Prayer Forum\nThe Billy Graham Evangelistic Association of Canada is hosting a prayer initiative for Canadian pastors and leaders. \nPlease join us for these free\, online events. For each event\, we’ll be inviting a guest speaker to share on the topic of prayer. We will also break into small groups to pray for one another and the church in Canada. \n  \n\n\n\n\nKathy McIntosh joined Alpha Canada as National Prayer Coordinator in April of 2021 after 29 years of working as an Associate/Community Pastor at her local church. She continues to be involved in the local church through pulpit supply and helping run Alpha in her community. Kathy is passionate about empowering the next generation\, continuing to speak at youth and young adult gatherings\, and serves as a mentor for young women. Her Spiritual Gifts lie in evangelism\, prayer\, discernment\, and shepherding. Her ministry now includes serving the church across Canada through prayer\, prayer training\, and supporting pastors\, priests\, and ministry leaders by praying with them\, for them and over them. She travels across Canada when called to teach on prayer ministry and evangelism\, desiring to see all come to Christ by living her life as a witness for Christ. She has been married for over 42 years to her best friend and ministry partner David. Together they have two married sons and are blessed with 4 grandchildren.\n\n\n\n 
URL:https://igniteprayer.ca/event/online-pastors-and-leaders-prayer-forum-4/
CATEGORIES:Quarterly Prayer Meetings
END:VEVENT
BEGIN:VEVENT
DTSTART;TZID=America/Toronto:20250827T130000
DTEND;TZID=America/Toronto:20250827T140000
DTSTAMP:20260423T022820
CREATED:20250527T162322Z
LAST-MODIFIED:20250527T162322Z
UID:1343-1756299600-1756303200@igniteprayer.ca
SUMMARY:Online - Pastors and Leaders Prayer Forum
DESCRIPTION:Click to Register \n \nPastors and Leaders Prayer Forum\nThe Billy Graham Evangelistic Association of Canada is hosting a prayer initiative for Canadian pastors and leaders. \nPlease join us for these free\, online events. For each event\, we’ll be inviting a guest speaker to share on the topic of prayer. We will also break into small groups to pray for one another and the church in Canada. \n  \n\n\n\n\nNico Deschner is the Lead Pastor at Celebration Church in Regina. He came to Canada in 2002 from Germany. Having pastored in BC\, Alberta and Saskatchewan in multiple churches of different streams\, Nico was ordained into Holy Orders as a Priest in the Anglican Tradition in 2016. His desire is to see a revival in Spirit\, Word and Sacrament making intentional space for people from different church traditions to come together to pray and worship as part of the One church. He and his wife Nadira live with the conviction to see God’s Kingdom released in every sphere of influence and contend for unity within the body of Christ under the Lordship of Jesus Christ. They fully embrace the adventure of life with their four Kids: Levi\, Milena\, Raphi and Rhianna. Together they love the outdoors\, playing music\, board games\, laughing\, good food prepared slowly and reading.\n\n\n\n 
URL:https://igniteprayer.ca/event/online-pastors-and-leaders-prayer-forum-3/
CATEGORIES:Quarterly Prayer Meetings
END:VEVENT
END:VCALENDAR