BEGIN:VCALENDAR
VERSION:2.0
PRODID:-//Ignite Prayer Canada - ECPv6.15.20//NONSGML v1.0//EN
CALSCALE:GREGORIAN
METHOD:PUBLISH
X-WR-CALNAME:Ignite Prayer Canada
X-ORIGINAL-URL:https://igniteprayer.ca
X-WR-CALDESC:Events for Ignite Prayer Canada
REFRESH-INTERVAL;VALUE=DURATION:PT1H
X-Robots-Tag:noindex
X-PUBLISHED-TTL:PT1H
BEGIN:VTIMEZONE
TZID:America/Toronto
BEGIN:DAYLIGHT
TZOFFSETFROM:-0500
TZOFFSETTO:-0400
TZNAME:EDT
DTSTART:20250309T070000
END:DAYLIGHT
BEGIN:STANDARD
TZOFFSETFROM:-0400
TZOFFSETTO:-0500
TZNAME:EST
DTSTART:20251102T060000
END:STANDARD
BEGIN:DAYLIGHT
TZOFFSETFROM:-0500
TZOFFSETTO:-0400
TZNAME:EDT
DTSTART:20260308T070000
END:DAYLIGHT
BEGIN:STANDARD
TZOFFSETFROM:-0400
TZOFFSETTO:-0500
TZNAME:EST
DTSTART:20261101T060000
END:STANDARD
BEGIN:DAYLIGHT
TZOFFSETFROM:-0500
TZOFFSETTO:-0400
TZNAME:EDT
DTSTART:20270314T070000
END:DAYLIGHT
BEGIN:STANDARD
TZOFFSETFROM:-0400
TZOFFSETTO:-0500
TZNAME:EST
DTSTART:20271107T060000
END:STANDARD
END:VTIMEZONE
BEGIN:VEVENT
DTSTART;TZID=America/Toronto:20260218T130000
DTEND;TZID=America/Toronto:20260218T140000
DTSTAMP:20260423T065045
CREATED:20251205T210635Z
LAST-MODIFIED:20251205T210757Z
UID:1637-1771419600-1771423200@igniteprayer.ca
SUMMARY:Online - Pastors and Leaders Prayer Forum
DESCRIPTION:Click to Register \n \nPastors and Leaders Prayer Forum\nThe Billy Graham Evangelistic Association of Canada is hosting a prayer initiative for Canadian pastors and leaders. \nPlease join us for these free\, online events. For each event\, we’ll be inviting a guest speaker to share on the topic of prayer. We will also break into small groups to pray for one another and the church in Canada. \n  \n\n\n\n\nFred Hartley has pastored One Mission Church since 1988\, an exciting and influential international church in Atlanta\, GA. In 1997 he started the College of Prayer with a vision to mentor pastors and leaders to reach a lost world through a revived church. Today there are 9.3 million campuses of the College of Prayer in 227 nations and territories\, and they have now trained 96.3 million pastors and leaders around the world. He and Sherry have been married 52 years. They have 4 children who are each married\, and they have 16 grandchildren. Fred loves Christ and the local church.\n\n\n\n 
URL:https://igniteprayer.ca/event/online-pastors-and-leaders-prayer-forum-5/
CATEGORIES:Quarterly Prayer Meetings
END:VEVENT
END:VCALENDAR