BEGIN:VCALENDAR
VERSION:2.0
PRODID:-//Ignite Prayer Canada - ECPv6.15.20//NONSGML v1.0//EN
CALSCALE:GREGORIAN
METHOD:PUBLISH
X-WR-CALNAME:Ignite Prayer Canada
X-ORIGINAL-URL:https://igniteprayer.ca
X-WR-CALDESC:Events for Ignite Prayer Canada
REFRESH-INTERVAL;VALUE=DURATION:PT1H
X-Robots-Tag:noindex
X-PUBLISHED-TTL:PT1H
BEGIN:VTIMEZONE
TZID:America/Edmonton
BEGIN:DAYLIGHT
TZOFFSETFROM:-0700
TZOFFSETTO:-0600
TZNAME:MDT
DTSTART:20250309T090000
END:DAYLIGHT
BEGIN:STANDARD
TZOFFSETFROM:-0600
TZOFFSETTO:-0700
TZNAME:MST
DTSTART:20251102T080000
END:STANDARD
BEGIN:DAYLIGHT
TZOFFSETFROM:-0700
TZOFFSETTO:-0600
TZNAME:MDT
DTSTART:20260308T090000
END:DAYLIGHT
BEGIN:STANDARD
TZOFFSETFROM:-0600
TZOFFSETTO:-0700
TZNAME:MST
DTSTART:20261101T080000
END:STANDARD
BEGIN:DAYLIGHT
TZOFFSETFROM:-0700
TZOFFSETTO:-0600
TZNAME:MDT
DTSTART:20270314T090000
END:DAYLIGHT
BEGIN:STANDARD
TZOFFSETFROM:-0600
TZOFFSETTO:-0700
TZNAME:MST
DTSTART:20271107T080000
END:STANDARD
END:VTIMEZONE
BEGIN:VTIMEZONE
TZID:America/Toronto
BEGIN:DAYLIGHT
TZOFFSETFROM:-0500
TZOFFSETTO:-0400
TZNAME:EDT
DTSTART:20250309T070000
END:DAYLIGHT
BEGIN:STANDARD
TZOFFSETFROM:-0400
TZOFFSETTO:-0500
TZNAME:EST
DTSTART:20251102T060000
END:STANDARD
BEGIN:DAYLIGHT
TZOFFSETFROM:-0500
TZOFFSETTO:-0400
TZNAME:EDT
DTSTART:20260308T070000
END:DAYLIGHT
BEGIN:STANDARD
TZOFFSETFROM:-0400
TZOFFSETTO:-0500
TZNAME:EST
DTSTART:20261101T060000
END:STANDARD
BEGIN:DAYLIGHT
TZOFFSETFROM:-0500
TZOFFSETTO:-0400
TZNAME:EDT
DTSTART:20270314T070000
END:DAYLIGHT
BEGIN:STANDARD
TZOFFSETFROM:-0400
TZOFFSETTO:-0500
TZNAME:EST
DTSTART:20271107T060000
END:STANDARD
END:VTIMEZONE
BEGIN:VEVENT
DTSTART;TZID=America/Edmonton:20260508T120000
DTEND;TZID=America/Edmonton:20260508T210000
DTSTAMP:20260420T002151
CREATED:20251105T162835Z
LAST-MODIFIED:20260411T232214Z
UID:1591-1778241600-1778274000@igniteprayer.ca
SUMMARY:Ignite Victoria - Victoria Church of the Nazarene
DESCRIPTION:Registration Closes May 3rd. \nClick to Register \nFREE SEMINARS AND DINNER FOR PASTORS & LEADERS  \n12:00 Noon – Registration\n1:00pm – Welcome & Vision of Ignite Prayer Canada\n1:20pm – Seminar 1: “Cultivating a Culture of Prayer in the Church”: Jacob George\n2:20pm – Break\n2:55pm – Seminar 2: “Cultivating Evangelistic Prayer in the Church”: Kathy McIntosh\n4:00pm – Prayer for Leaders\n4:45pm – Free Catered Dinner \nFREE PUBLIC PRAYER & WORSHIP SUMMIT FOR ALL \n5:30pm — Doors Open\n6:30pm — Worship | Prayer for Unity – Spiritual Awakening – Holiness | Worship and Blessing\n9:00pm — Dismiss \nPromotional Materials \nIGNITE VICTORIA SEMINAR PRESENTERS \n\n\n\n\nJacob George is an ordained minister with the Evangelical Missionary Church of Canada (EMCC). He is the Pastor of Prayer Ministry at the Central Campus of Centre Street Church\, Calgary\, and Community Pastor for Downtown and South Calgary. He has served with Youth for Christ and the Navigators. Jacob helps Centre Street Church become a praying church – a house of prayer for all nations.\n\n\n\n  \n\n\n\n\nKathy McIntosh — Kathy completed her 28th year of Pastoral Ministry serving as Youth/Young Adults Pastor\, Associate Pastor\, and finally Community Outreach Pastor\, and transitioned into her current role as National Prayer Coordinator for Alpha Canada in 2021. Kathy is 61 years of age and has been married 40 years to her best friend and ministry partner David. She has two adult sons\, a daughter-in-law and is blessed to have 2 grandchildren. Kathy’s Spiritual Gifts lie in evangelism\, prayer\, discernment and shepherding. Her ministry now includes serving the Church across Canada through prayer\, prayer training\, and supporting Pastors\, Priests and Ministry Leaders. She loves the local church. Kathy desires to see all come to Christ and lives her own life as a witness for Him.\n\n\n\n\n\nIGNITE VICTORIA WORSHIP LEADERS \n\n\n\n\nFor over two decades\, City Reach has been bringing the churches of Victoria together for worship by gathering gifted worship leaders from a wide variety of churches to lead us into God’s presence. We are excited to offer a team of excellent worship musicians who are passionate for Jesus. They will represent churches across Greater Victoria for this special evening of prayer and worship for Ignite Victoria. It’s a gathering you won’t want to miss!\n\n\n\n 
URL:https://igniteprayer.ca/event/ignite-victoria-victoria-church-of-the-nazarene/
LOCATION:Victoria Church of the Nazarene\, 4277 Quadra St\, Victoria\, BC
CATEGORIES:Ignite City Wide Events
END:VEVENT
BEGIN:VEVENT
DTSTART;TZID=America/Toronto:20260514T110000
DTEND;TZID=America/Toronto:20260514T120000
DTSTAMP:20260420T002151
CREATED:20260415T175234Z
LAST-MODIFIED:20260415T175254Z
UID:1778-1778756400-1778760000@igniteprayer.ca
SUMMARY:Online - EFC Presentation and Prayer Forum
DESCRIPTION:The Evangelical Fellowship of Canada invites all staff and leaders of EFC affiliate churches\, denominations\, ministry organizations\, and post-secondary institutions to join us for a free online Presentation and Prayer Forum\, May 14\, 2026 (8:00 a.m. Pacific / 9:00 a.m. Mountain / 10:00 a.m. Central / 11:00 a.m. Eastern / 12:00 p.m. Atlantic / 12:30 p.m. NL).\n  \nIn 2025\, the Evangelical Fellowship of Canada adopted a new strategic plan. One of our top priorities is to ask God to use the EFC and its affiliates to encourage the calling and sending of God’s people with the gospel of the Kingdom into the rich harvest field of Canada and the world. Our goal is to foster greater visible unity in gospel witness. One way to achieve this is “to practise and promote prayer among EFC staff and affiliates for gospel mission and workers” (Matt. 9:38).\n  \n\nTo this end\, the EFC’s prayer ambassador\, Roger Helland\, will share principles and practices of evangelistic prayer for the harvest\, drawing from Scripture\, history\, and personal testimony. This will be followed by large- and small- group evangelistic prayer.\n  \n\n\n\n\nRoger Helland serves as the prayer ambassador of The Evangelical Fellowship of Canada and as a lead team member of Ignite Prayer Canada. As a graduate of Dallas Theological Seminary (Th.M.) and Trinity Western University (DMin.)\, he has served as a pastor\, district minister\, and adjunct professor at several theological schools and is the author of seven books\, including Pursuing God’s Presence. Roger is devoted to prayer\, spiritual leadership\, and church renewal.\n\n\n\n  \n\nSchedule\n\nWelcome: Rick Hiemstra\, EFC Director of Centre for Research on Church & Faith\nPresentation: Roger Helland\, EFC prayer ambassador\nLarge group prayer\n–  Gloria Willoughby\, manager\, Crossroads 24/7 Prayer Centre\n–  Trevor Seath\, executive director\, Ontario Conference of MB Churches\nSmall group prayer in breakout rooms of 8 each\nBlessing: Rick Hiemstra\, EFC Director of Centre for Research on Church & Faith\n \n \n\n\n\nZoom Link\nTime: May 14\, 2026 (8:00 a.m. Pacific / 9:00 a.m. Mountain / 10:00 a.m. Central / 11:00 a.m. Eastern / 12:00 p.m. Atlantic / 12:30 p.m. NL).\nhttps://theefc.zoom.us/j/81918601715\nMeeting ID: 819 1860 1715\n  \n\n\n\nOne tap mobile\n+14388097799\,\,81918601715#\n+15873281099\,\,81918601715#
URL:https://igniteprayer.ca/event/efc-presentation-and-prayer-forum/
CATEGORIES:Partner Events
END:VEVENT
BEGIN:VEVENT
DTSTART;TZID=America/Toronto:20260527T130000
DTEND;TZID=America/Toronto:20260527T140000
DTSTAMP:20260420T002151
CREATED:20260303T155911Z
LAST-MODIFIED:20260303T155911Z
UID:1761-1779886800-1779890400@igniteprayer.ca
SUMMARY:Online - Pastors and Leaders Prayer Forum
DESCRIPTION:Click to Register \n \nPastors and Leaders Prayer Forum\nThe Billy Graham Evangelistic Association of Canada is hosting a prayer initiative for Canadian pastors and leaders. \nPlease join us for these free\, online events. For each event\, we’ll be inviting a guest speaker to share on the topic of prayer. We will also break into small groups to pray for one another and the church in Canada. \n  \n\n\n\n\nChris Ivany is the Lead Pastor of Rock Church in Halifax\, a church he grew up attending. In the last number of years Rock Church has put an extra effort into creating a culture of prayer and they are seeing the fruit of extraordinary prayer. Chris has also recently taken the leadership of Pray Nova Scotia which gathers pastors and leaders each month from across the province to pray together. Chris and his wife Jen are blessed to pastor together and they have 5 children.\n\n\n\n 
URL:https://igniteprayer.ca/event/online-pastors-and-leaders-prayer-forum-6/
CATEGORIES:Quarterly Prayer Meetings
END:VEVENT
END:VCALENDAR